BEGIN:VCALENDAR
VERSION:2.0
PRODID:-//eventon.com NONSGML v1.0//EN
CALSCALE:GREGORIAN
METHOD:PUBLISH
BEGIN:VEVENT
UID:69e60a7c28861
DTSTAMP:20260420T111404Z
DTSTART:20240511T153000Z
DTEND:20240511T173000Z
LOCATION:AJs Family Cyclery 1444 Concannon Blvd\,  Livermore\,  CA 94550
SUMMARY:Ride like a mother!
DESCRIPTION:\nhttps://livermorecycling.com/events/ride-like-a-mother/
URL:https://livermorecycling.com/events/ride-like-a-mother/
END:VEVENT
END:VCALENDAR